Workbook
Name Hidden_13: Hidden_1!$A$1:$A$11
Name Hidden_211: Hidden_2!$A$1:$A$2

Sheet Reporte de Formatos
A1: 53405
A2: TÍTULO | D2: NOMBRE CORTO | G2: DESCRIPCIÓN
A3: Remuneración bruta y neta | D3: Remuneración bruta y neta | G3: La información relativa a la remuneración mensual bruta y neta de conformidad con el tabulador de sueldos y salarios aplicable a cada sujeto obligado, así como todos los conceptos que sean adicionales y distintos a las remuneraciones, especificando la periodicidad con que se otorga cada uno de éstos (quincenal, mensual, semestral, anual, por única ocasión, etcétera)
A4: 1 | B4: 4 | C4: 4 | D4: 9 | E4: 1 | F4: 2 | G4: 2 | H4: 2 | I4: 1 | J4: 1 | K4: 1 | L4: 9 | M4: 6 | N4: 1 | O4: 6 | P4: 1 | Q4: 10 | R4: 10 | S4: 10 | T4: 10 | U4: 10 | V4: 10 | W4: 10 | X4: 10 | Y4: 10 | Z4: 10 | AA4: 10 | AB4: 10 | AC4: 10 | AD4: 2 | AE4: 4 | AF4: 13 | AG4: 14
A5: 512920 | B5: 512932 | C5: 512912 | D5: 512933 | E5: 512934 | F5: 512915 | G5: 512921 | H5: 512922 | I5: 512923 | J5: 512916 | K5: 512913 | L5: 512924 | M5: 512935 | N5: 512936 | O5: 512925 | P5: 512914 | Q5: 512939 | R5: 512926 | S5: 512940 | T5: 512910 | U5: 512930 | V5: 512917 | W5: 512927 | X5: 512918 | Y5: 512919 | Z5: 512937 | AA5: 512941 | AB5: 512938 | AC5: 512942 | AD5: 512928 | AE5: 512929 | AF5: 512931 | AG5: 512911
A6: Tabla Campos
A7: Ejercicio | B7: Fecha de inicio del periodo que se informa | C7: Fecha de término del periodo que se informa | D7: Tipo de integrante del sujeto obligado (catálogo) | E7: Clave o nivel del puesto | F7: Denominación o descripción del puesto | G7: Denominación del cargo | H7: Área de adscripción | I7: Nombre (s) | J7: Primer apellido | K7: Segundo apellido | L7: Sexo (catálogo) | M7: Monto mensual bruto de la remuneración, en tabulador | N7: Tipo de moneda de la remuneración bruta | O7: Monto mensual neto de la remuneración, en tabulador | P7: Tipo de moneda de la remuneración neta | Q7: Percepciones adicionales en dinero, Monto bruto y neto, tipo de moneda y su periodicidad Tabla_512939 | R7: Percepciones adicionales en especie y su periodicidad Tabla_512926 | S7: Ingresos, monto bruto y neto, tipo de moneda y su periodicidad Tabla_512940 | T7: Sistemas de compensación, monto bruto y neto, tipo de moneda y su periodicidad Tabla_512910 | U7: Gratificaciones, monto bruto y neto, tipo de moneda y su periodicidad Tabla_512930 | V7: Primas, monto bruto y neto, tipo de moneda y su periodicidad Tabla_512917 | W7: Comisiones, monto bruto y neto, tipo de moneda y su periodicidad Tabla_512927 | X7: Dietas, monto bruto y neto, tipo de moneda y su periodicidad Tabla_512918 | Y7: Bonos, monto bruto y neto, tipo de moneda y su periodicidad Tabla_512919 | Z7: Estímulos, monto bruto y neto, tipo de moneda y su periodicidad Tabla_512937 | AA7: Apoyos económicos, monto bruto y neto, tipo de moneda y su periodicidad Tabla_512941 | AB7: Prestaciones económicas, monto bruto y neto, tipo de moneda y su periodicidad Tabla_512938 | AC7: Prestaciones en especie y su periodicidad Tabla_512942 | AD7: Área(s) responsable(s) que genera(n), posee(n), publica(n) y actualizan la información | AE7: Fecha de validación | AF7: Fecha de Actualización | AG7: Nota
A8: 2021 | B8: 44348 | C8: 44377 | D8: Servidor(a) público(a) | E8: 1 | F8: PRESIDENTE | G8: PRESIDENTE | H8: PRESIDENCIA | I8: JESUS | J8: INFANTE | K8: AYALA | L8: Masculino | M8: 43465.62 | N8: PESO MEXICANO | O8: 35143.68 | P8: PESO MEXICANO | Q8: 1 | R8: Colocar el ID de los registros de la Tabla_512926 | S8: Colocar el ID de los registros de la Tabla_512940 | T8: Colocar el ID de los registros de la Tabla_512910 | U8: Colocar el ID de los registros de la Tabla_512930 | V8: Colocar el ID de los registros de la Tabla_512917 | W8: Colocar el ID de los registros de la Tabla_512927 | X8: Colocar el ID de los registros de la Tabla_512918 | Y8: Colocar el ID de los registros de la Tabla_512919 | Z8: Colocar el ID de los registros de la Tabla_512937 | AA8: Colocar el ID de los registros de la Tabla_512941 | AB8: Colocar el ID de los registros de la Tabla_512938 | AC8: Colocar el ID de los registros de la Tabla_512942 | AD8: TESORERIA | AE8: 44377 | AF8: 44377
D9: Servidor(a) público(a) | E9: 3 | F9: REGIDOR | G9: REGIDOR | H9: REGIDOR | I9: MARIA GUADALUPE | J9: FLORES | K9: RAYA | L9: Femenino | M9: 19691.9 | N9: PESO MEXICANO | O9: 16907.78 | P9: PESO MEXICANO | Q9: 2
D10: Servidor(a) público(a) | E10: 8 | F10: DIRECTOR DE PLANEACION Y DESARROLLO URBANO | G10: DIRECTOR DE PLANEACION Y DESARROLLO URBANO | H10: URBANISO | I10: RAFAEL | J10: ALARCON | K10: ZAVALA | L10: Masculino | M10: 13999.8 | N10: PESO MEXICANO | O10: 12681.72 | P10: PESO MEXICANO | Q10: 3
D11: Servidor(a) público(a) | E11: 11 | F11: SECRETARIO | G11: SECRETARIO | H11: SECRETARIA | I11: ANDREA | J11: CACHO | K11: CABRERA | L11: Femenino | M11: 19691.9 | N11: PESO MEXICANO | O11: 16907.78 | P11: PESO MEXICANO
D12: Servidor(a) público(a) | E12: 13 | F12: DIRECCION DE FOMENTO AGROPECUARIO | G12: DIRECCION DE FOMENTO AGROPECUARIO | H12: FOMENTO AGROPECUARIO | I12: JORGE LUIS | J12: ESTRADA | K12: GARIBAY | L12: Masculino | M12: 11077.16 | N12: PESO MEXICANO | O12: 10060.02 | P12: PESO MEXICANO
D13: Servidor(a) público(a) | E13: 14 | F13: ASISTENTE A | G13: ASISTENTE A | H13: FOMENTO AGROPECUARIO | I13: JANET | J13: MEDINA | K13: BAUTISTA | L13: Femenino | M13: 6482.5 | N13: PESO MEXICANO | O13: 6396.98 | P13: PESO MEXICANO
D14: Servidor(a) público(a) | E14: 16 | F14: ELECTRICISTA A | G14: ELECTRICISTA A | H14: ALUMBRADO PUBLICO | I14: JOSE GABRIEL | J14: VEGA | K14: HEREDIA | L14: Masculino | M14: 6900.8 | N14: PESO MEXICANO | O14: 6740.98 | P14: PESO MEXICANO
D15: Servidor(a) público(a) | E15: 17 | F15: ELECTRICISTA A | G15: ELECTRICISTA A | H15: ALUMBRADO PUBLICO | I15: ANTONIO | J15: VEGA | K15: ARRIAGA | L15: Masculino | M15: 6900.8 | N15: PESO MEXICANO | O15: 6740.98 | P15: PESO MEXICANO
D16: Servidor(a) público(a) | E16: 21 | F16: RECOLECTOR | G16: RECOLECTOR | H16: ASEO PUBLICO | I16: RAMIRO | J16: QUINTERO | K16: AGRAMON | L16: Masculino | M16: 5809.74 | N16: PESO MEXICANO | O16: 5738.62 | P16: PESO MEXICANO
D17: Servidor(a) público(a) | E17: 24 | F17: BARRENDERO | G17: BARRENDERO | H17: ASEO PUBLICO | I17: JORGE | J17: RAMIREZ | K17: NARES | L17: Masculino | M17: 4758.1 | N17: PESO MEXICANO | O17: 4758.1 | P17: PESO MEXICANO
D18: Servidor(a) público(a) | E18: 26 | F18: CONSERJE A | G18: CONSERJE A | H18: ASEO PUBLICO | I18: MARIA TERESA | J18: BRAVO | K18: ESTRADA | L18: Femenino | M18: 4198.5 | N18: PESO MEXICANO | O18: 4198.5 | P18: PESO MEXICANO
D19: Servidor(a) público(a) | E19: 27 | F19: LIMPIEZA UBR | G19: LIMPIEZA UBR | H19: DIF MUNICIPAL | I19: MA. GUADALUPE | J19: MARTINEZ | K19: GUZMAN | L19: Femenino | M19: 5028.98 | N19: PESO MEXICANO | O19: 5028.98 | P19: PESO MEXICANO
D20: Servidor(a) público(a) | E20: 28 | F20: RECOLECTOR | G20: RECOLECTOR | H20: ASEO PUBLICO | I20: JAIME | J20: LOPEZ | K20: CISNEROS | L20: Masculino | M20: 5809.74 | N20: PESO MEXICANO | O20: 5738.62 | P20: PESO MEXICANO
D21: Servidor(a) público(a) | E21: 29 | F21: AUXILIAR DE ASEO PUBLICO | G21: AUXILIAR DE ASEO PUBLICO | H21: ASEO PUBLICO | I21: BENJAMIN | J21: CHAVEZ | K21: VAZQUEZ | L21: Masculino | M21: 6000.04 | N21: PESO MEXICANO | O21: 5994.92 | P21: PESO MEXICANO
D22: Servidor(a) público(a) | E22: 31 | F22: RECOLECTOR | G22: RECOLECTOR | H22: ASEO PUBLICO | I22: LEONARDO | J22: PEREZ | K22: MENDEZ | L22: Masculino | M22: 5809.74 | N22: PESO MEXICANO | O22: 5738.62 | P22: PESO MEXICANO
... D117: Servidor(a) público(a) | E117: 273 | F117: COORDINADORA DE ESCUELA DE OFICIOS | G117: COORDINADORA DE ESCUELA DE OFICIOS | H117: EDUCAION, CULTURA Y DEPORTES | I117: MARTHA | J117: NEGRETE | K117: RAMOS | L117: Masculino | M117: 7999.76 | N117: PESO MEXICANO | O117: 7777.08 | P117: PESO MEXICANO

Sheet Hidden_1
A1: Funcionario
A2: Servidor(a) público(a)
A3: Servidor[a] público[a] eventual
A4: Integrante
A5: Empleado
A6: Representante popular
A7: Miembro del poder judicial
A8: Miembro de órgano autónomo
A9: Personal de confianza
A10: Prestador de servicios profesionales
A11: Otro

Sheet Hidden_2
A1: Femenino
A2: Masculino

Sheet Tabla_512939
B1: 2 | C1: 6 | D1: 6 | E1: 1 | F1: 1
B2: 65856 | C2: 65857 | D2: 65858 | E2: 65859 | F2: 65860
A3: ID | B3: Denominación de las percepciones adicionales en dinero | C3: Monto bruto de las percepciones adicionales en dinero | D3: Monto neto de las percepciones adicionales en dinero | E3: Tipo de moneda de las percepciones adicionales en dinero | F3: Periodicidad de las percepciones adicionales en dinero
B4: AGUINALDO | F4: ANUAL
B5: PRIMA VACACIONAL | F5: SEMESTRAL
A6: 1 | C6: =+'Reporte de Formatos'!M8/30.4*45 -> 64340.556 | D6: =+'Reporte de Formatos'!O8/30.4*45 -> 52021.895 | E6: PESO MEXICANO
A7: 3 | C7: =+'Reporte de Formatos'!M9/30.4*45 -> 29149.194 | D7: =+'Reporte de Formatos'!O9/30.4*45 -> 25027.964 | E7: PESO MEXICANO
A8: 8 | C8: =+'Reporte de Formatos'!M10/30.4*45 -> 20723.388 | D8: =+'Reporte de Formatos'!O10/30.4*45 -> 18772.283 | E8: PESO MEXICANO
A9: 11 | C9: =+'Reporte de Formatos'!M11/30.4*45 -> 29149.194 | D9: =+'Reporte de Formatos'!O11/30.4*45 -> 25027.964 | E9: PESO MEXICANO
A10: 13 | C10: =+'Reporte de Formatos'!M12/30.4*45 -> 16397.112 | D10: =+'Reporte de Formatos'!O12/30.4*45 -> 14891.477 | E10: PESO MEXICANO
A11: 14 | C11: =+'Reporte de Formatos'!M13/30.4*45 -> 9595.8059 | D11: =+'Reporte de Formatos'!O13/30.4*45 -> 9469.2138 | E11: PESO MEXICANO
A12: 16 | C12: =+'Reporte de Formatos'!M14/30.4*45 -> 10215 | D12: =+'Reporte de Formatos'!O14/30.4*45 -> 9978.4243 | E12: PESO MEXICANO
A13: 17 | C13: =+'Reporte de Formatos'!M15/30.4*45 -> 10215 | D13: =+'Reporte de Formatos'!O15/30.4*45 -> 9978.4243 | E13: PESO MEXICANO
A14: 21 | C14: =+'Reporte de Formatos'!M16/30.4*45 -> 8599.9441 | D14: =+'Reporte de Formatos'!O16/30.4*45 -> 8494.6678 | E14: PESO MEXICANO
A15: 24 | C15: =+'Reporte de Formatos'!M17/30.4*45 -> 7043.2401 | D15: =+'Reporte de Formatos'!O17/30.4*45 -> 7043.2401 | E15: PESO MEXICANO
A16: 26 | C16: =+'Reporte de Formatos'!M18/30.4*45 -> 6214.8849 | D16: =+'Reporte de Formatos'!O18/30.4*45 -> 6214.8849 | E16: PESO MEXICANO
A17: 27 | C17: =+'Reporte de Formatos'!M19/30.4*45 -> 7444.2138 | D17: =+'Reporte de Formatos'!O19/30.4*45 -> 7444.2138 | E17: PESO MEXICANO
... A115: 273 | C115: =+'Reporte de Formatos'!M117/30.4*45 -> 11841.75 | D115: =+'Reporte de Formatos'!O117/30.4*45 -> 11512.125 | E115: PESO MEXICANO

Sheet Tabla_512926
B1: 2 | C1: 1
B2: 65834 | C2: 65835
A3: ID | B3: Descripción de las percepciones adicionales en especie | C3: Periodicidad de las percepciones adicionales en especie
B4: AGUIDALDO : El aguinaldo es un derecho de todos los trabajadores establecido en la Ley Federal del Trabajo. Los trabajadores tendrán derecho a un aguinaldo anual que deberá pagarse antes del día veinte de diciembre, equivalente a quince días de salario, por lo menos. | C4: ANUAL
B5: PRIMA VACIONAL: La Ley Federal del Trabajo establece que las empresas deben otorgarte una prima vacacional de, al menos, el 25% para disfrutar de tus vacaciones | C5: SEMESTRAL

Sheet Tabla_512940
B1: 2 | C1: 6 | D1: 6 | E1: 1 | F1: 1
B2: 65863 | C2: 65864 | D2: 65865 | E2: 65861 | F2: 65862
A3: ID | B3: Denominación de los ingresos | C3: Monto bruto de los ingresos | D3: Monto neto de los ingresos | E3: Tipo de moneda de los ingresos | F3: Periodicidad de los ingresos
A4: 1 | B4: QUINCENAL | C4: =+'Reporte de Formatos'!M8 -> 43465.62 | D4: =+'Reporte de Formatos'!O8 -> 35143.68 | E4: PESO MEXICANO | F4: QUINCENAL
A5: 3 | B5: QUINCENAL | C5: =+'Reporte de Formatos'!M9 -> 19691.9 | D5: =+'Reporte de Formatos'!O9 -> 16907.78 | E5: PESO MEXICANO | F5: QUINCENAL
A6: 8 | B6: QUINCENAL | C6: =+'Reporte de Formatos'!M10 -> 13999.8 | D6: =+'Reporte de Formatos'!O10 -> 12681.72 | E6: PESO MEXICANO | F6: QUINCENAL
A7: 11 | B7: QUINCENAL | C7: =+'Reporte de Formatos'!M11 -> 19691.9 | D7: =+'Reporte de Formatos'!O11 -> 16907.78 | E7: PESO MEXICANO | F7: QUINCENAL
A8: 13 | B8: QUINCENAL | C8: =+'Reporte de Formatos'!M12 -> 11077.16 | D8: =+'Reporte de Formatos'!O12 -> 10060.02 | E8: PESO MEXICANO | F8: QUINCENAL
A9: 14 | B9: QUINCENAL | C9: =+'Reporte de Formatos'!M13 -> 6482.5 | D9: =+'Reporte de Formatos'!O13 -> 6396.98 | E9: PESO MEXICANO | F9: QUINCENAL
A10: 16 | B10: QUINCENAL | C10: =+'Reporte de Formatos'!M14 -> 6900.8 | D10: =+'Reporte de Formatos'!O14 -> 6740.98 | E10: PESO MEXICANO | F10: QUINCENAL
A11: 17 | B11: QUINCENAL | C11: =+'Reporte de Formatos'!M15 -> 6900.8 | D11: =+'Reporte de Formatos'!O15 -> 6740.98 | E11: PESO MEXICANO | F11: QUINCENAL
A12: 21 | B12: QUINCENAL | C12: =+'Reporte de Formatos'!M16 -> 5809.74 | D12: =+'Reporte de Formatos'!O16 -> 5738.62 | E12: PESO MEXICANO | F12: QUINCENAL
A13: 24 | B13: QUINCENAL | C13: =+'Reporte de Formatos'!M17 -> 4758.1 | D13: =+'Reporte de Formatos'!O17 -> 4758.1 | E13: PESO MEXICANO | F13: QUINCENAL
A14: 26 | B14: QUINCENAL | C14: =+'Reporte de Formatos'!M18 -> 4198.5 | D14: =+'Reporte de Formatos'!O18 -> 4198.5 | E14: PESO MEXICANO | F14: QUINCENAL
A15: 27 | B15: QUINCENAL | C15: =+'Reporte de Formatos'!M19 -> 5028.98 | D15: =+'Reporte de Formatos'!O19 -> 5028.98 | E15: PESO MEXICANO | F15: QUINCENAL
... A113: 273 | B113: QUINCENAL | C113: =+'Reporte de Formatos'!M117 -> 7999.76 | D113: =+'Reporte de Formatos'!O117 -> 7777.08 | E113: PESO MEXICANO | F113: QUINCENAL

Sheet Tabla_512910
B1: 1 | C1: 6 | D1: 6 | E1: 1 | F1: 1
B2: 65814 | C2: 65815 | D2: 65816 | E2: 65817 | F2: 65818
A3: ID | B3: Denominación de los sistemas de compensación | C3: Monto bruto de los sistemas de compensación | D3: Monto neto de los sistemas de compensación | E3: Tipo de moneda de los sistemas de compensación | F3: Periodicidad de los sistemas de compensación

Sheet Tabla_512930
B1: 1 | C1: 6 | D1: 6 | E1: 1 | F1: 1
B2: 65841 | C2: 65842 | D2: 65843 | E2: 65844 | F2: 65845
A3: ID | B3: Denominación de las gratificaciones | C3: Monto bruto de las gratificaciones | D3: Monto neto de las gratificaciones | E3: Tipo de moneda de las gratificaciones | F3: Periodicidad de las gratificaciones

Sheet Tabla_512917
B1: 1 | C1: 6 | D1: 6 | E1: 1 | F1: 1
B2: 65819 | C2: 65820 | D2: 65821 | E2: 65822 | F2: 65823
A3: ID | B3: Denominación de las primas | C3: Monto bruto de las primas | D3: Monto neto de las primas | E3: Tipo de moneda de las primas | F3: Periodicidad de las primas

Sheet Tabla_512927
B1: 1 | C1: 6 | D1: 6 | E1: 1 | F1: 1
B2: 65836 | C2: 65837 | D2: 65838 | E2: 65839 | F2: 65840
A3: ID | B3: Denominación de las comisiones | C3: Monto bruto de las comisiones | D3: Monto neto de las comisiones | E3: Tipo de moneda de las comisiones | F3: Periodicidad de las comisiones

Sheet Tabla_512918
B1: 1 | C1: 6 | D1: 6 | E1: 1 | F1: 1
B2: 65824 | C2: 65825 | D2: 65826 | E2: 65827 | F2: 65828
A3: ID | B3: Denominación de las dietas | C3: Monto bruto de las dietas | D3: Monto neto de las dietas | E3: Tipo de moneda de las dietas | F3: Periodicidad de las dietas

Sheet Tabla_512919
B1: 1 | C1: 6 | D1: 6 | E1: 1 | F1: 1
B2: 65829 | C2: 65830 | D2: 65831 | E2: 65832 | F2: 65833
A3: ID | B3: Denominación de los bonos | C3: Monto bruto de los bonos | D3: Monto neto de los bonos | E3: Tipo de moneda de los bonos | F3: Periodicidad de los bonos

Sheet Tabla_512937
B1: 1 | C1: 6 | D1: 6 | E1: 1 | F1: 1
B2: 65846 | C2: 65847 | D2: 65848 | E2: 65849 | F2: 65850
A3: ID | B3: Denominación de los estímulos | C3: Monto bruto de los estímulos | D3: Monto neto de los estímulos | E3: Tipo de moneda de los estímulos | F3: Periodicidad de los estímulos

Sheet Tabla_512941
B1: 1 | C1: 6 | D1: 6 | E1: 1 | F1: 1
B2: 65866 | C2: 65867 | D2: 65868 | E2: 65869 | F2: 65870
A3: ID | B3: Denominación de los apoyos económicos | C3: Monto bruto de los apoyos económicos | D3: Monto neto de los apoyos económicos | E3: Tipo de moneda de los apoyos económicos | F3: Periodicidad de los apoyos económicos

Sheet Tabla_512938
B1: 1 | C1: 6 | D1: 6 | E1: 1 | F1: 1
B2: 65851 | C2: 65852 | D2: 65853 | E2: 65854 | F2: 65855
A3: ID | B3: Denominación de las prestaciones económicas | C3: Monto bruto de las prestaciones económicas | D3: Monto neto de las prestaciones económicas | E3: Tipo de moneda de las prestaciones económicas | F3: Periodicidad de las prestaciones económicas

Sheet Tabla_512942
B1: 1 | C1: 1
B2: 65871 | C2: 65872
A3: ID | B3: Descripción de las prestaciones en especie | C3: Periodicidad de las prestaciones en especie
